BEGIN:VCALENDAR
VERSION:2.0
PRODID:-//Gahwa Time - ECPv6.2.8.1//NONSGML v1.0//EN
CALSCALE:GREGORIAN
METHOD:PUBLISH
X-ORIGINAL-URL:https://cqfdlab.com/GahwaTimeSS
X-WR-CALDESC:évènements pour Gahwa Time
REFRESH-INTERVAL;VALUE=DURATION:PT1H
X-Robots-Tag:noindex
X-PUBLISHED-TTL:PT1H
BEGIN:VTIMEZONE
TZID:UTC
BEGIN:STANDARD
TZOFFSETFROM:+0000
TZOFFSETTO:+0000
TZNAME:UTC
DTSTART:20230101T000000
END:STANDARD
END:VTIMEZONE
BEGIN:VEVENT
DTSTART;VALUE=DATE:20231202
DTEND;VALUE=DATE:20231203
DTSTAMP:20260423T013437
CREATED:20231128T081830Z
LAST-MODIFIED:20231128T091039Z
UID:3578-1701475200-1701561599@cqfdlab.com
SUMMARY:Gahwa Time Winter
DESCRIPTION:Welcome to Gahwa Time — an extraordinary event that transcends the ordinary and invites you to a space where heritage\, connection\, and empowerment harmoniously converge. Gahwa\, the Arabic word for coffee\, represents more than just a beverage; it symbolizes a tradition deeply ingrained in Arab culture — a tradition of warm hospitality\, meaningful conversations\, and shared moments. \n\n\n\n\n\n\n\n\n\n\n\nA Fusion of Heritage\, Connection\, and Empowerment\n\n\n\nThe Essence of Gahwa Time\n\n\n\n\nCelebrating Heritage\n\n\n\nGahwa Time is a celebration of heritage\, embracing the richness of our past\, the vibrancy of our present\, and the promise of an innovative\, sustainable future.\n\n\n\nProwdness Unveiled\n\n\n\n« Prowd » with a « W » signifies the ancient\, original form of being proud. Gahwa Time\, with the Prowdness Touch\, welcomes and celebrates experiences that awaken our senses and align us with our true selves.\n\n\n\nSustainable Community\n\n\n\n\nIt’s more than an event; it’s a sustainable community built on values of unity\, magnanimity\, growth\, and purpose. Gahwa Time is where individuals with a shared vision come together to empower and support one another.
URL:https://cqfdlab.com/GahwaTimeSS/event/gahwa-time-winter/
LOCATION:Online
CATEGORIES:Gahwa Time
ATTACH;FMTTYPE=image/png:https://cqfdlab.com/GahwaTimeSS/wp-content/uploads/2023/11/Contenu-site-web-I-Gahwa-Time-I-Novembre-2023-I-Events-page-Birthday-1.png
END:VEVENT
END:VCALENDAR